BEGIN:VCALENDAR
VERSION:2.0
PRODID:-//www.candlelightersnv.org//NONSGML kigkonsult.se iCalcreator 2.30.
 10//
CALSCALE:GREGORIAN
METHOD:PUBLISH
UID:994b1899-aae8-4664-975a-77263c122067
X-WR-CALDESC:We are still recruiting male counselors for Camp Firefly Jr! 
 \n\nIf you are a male volunteer age 20 and older who is interested in supp
 orting children ages 6-8 diagnosed with cancer\, their siblings\, and bere
 aved siblings by giving them the camp experience of a lifetime\, we are lo
 oking for you! \n\nCamp Firefly Jr. is a traditional overnight camp experi
 ence held at campgrounds in Mt. Charleston\, NV. Counselors sleep with the
  kids in their cabin and oversee their daily activities. Experience with c
 hildren is not necessary\, but compassion for children undergoing this dif
 ficult journey is!
X-WR-RELCALID:9e4bd0f8d37884be8eab87db7c291563
X-WR-TIMEZONE:America/Los_Angeles
BEGIN:VTIMEZONE
TZID:America/Los_Angeles
BEGIN:STANDARD
TZNAME:PST
DTSTART:20251102T020000
TZOFFSETFROM:-0700
TZOFFSETTO:-0800
RDATE:20261101T020000
RDATE:20271107T020000
END:STANDARD
BEGIN:DAYLIGHT
TZNAME:PDT
DTSTART:20260308T020000
TZOFFSETFROM:-0800
TZOFFSETTO:-0700
RDATE:20270314T020000
END:DAYLIGHT
END:VTIMEZONE
BEGIN:VEVENT
UID:8637960d-0485-4c17-a7c4-d0ea314bb0c2
DTSTAMP:20260423T105533Z
DESCRIPTION:We are still recruiting male counselors for Camp Firefly Jr! \n
 \nIf you are a male volunteer age 20 and older who is interested in suppor
 ting children ages 6-8 diagnosed with cancer\, their siblings\, and bereav
 ed siblings by giving them the camp experience of a lifetime\, we are look
 ing for you! \n\nCamp Firefly Jr. is a traditional overnight camp experien
 ce held at campgrounds in Mt. Charleston\, NV. Counselors sleep with the k
 ids in their cabin and oversee their daily activities. Experience with chi
 ldren is not necessary\, but compassion for children undergoing this diffi
 cult journey is!
DTSTART;TZID=America/Los_Angeles:20260720T150000
DTEND;TZID=America/Los_Angeles:20260722T160000
LOCATION:Mt. Charleston\, NV
SUMMARY:Camp Firefly Jr. (Male Volunteers ONLY)
END:VEVENT
END:VCALENDAR
