BEGIN:VCALENDAR
VERSION:2.0
PRODID:-//www.candlelightersnv.org//NONSGML kigkonsult.se iCalcreator 2.30.
 10//
CALSCALE:GREGORIAN
METHOD:PUBLISH
UID:27332151-4fd8-4de9-aaf8-b4fe5619d991
X-WR-CALDESC:Angel Parents offers a compassionate support group for parents
 \, caregivers\, and guardians who have experienced the loss of a child to 
 pediatric cancer. In this safe\, understanding space\, participants find c
 omfort\, connection\, and healing through shared experiences\, guided disc
 ussions\, and the support of others who truly understand the depth of thei
 r loss.\n\nRegistration is required to attend this event. Please contact o
 ur Family Services Team at the below email address.
X-WR-RELCALID:be808bce5c2be5f4700fa40734fe95c6
X-WR-TIMEZONE:America/Los_Angeles
BEGIN:VTIMEZONE
TZID:America/Los_Angeles
BEGIN:STANDARD
TZNAME:PST
DTSTART:20251102T020000
TZOFFSETFROM:-0700
TZOFFSETTO:-0800
RDATE:20261101T020000
END:STANDARD
BEGIN:DAYLIGHT
TZNAME:PDT
DTSTART:20260308T020000
TZOFFSETFROM:-0800
TZOFFSETTO:-0700
RDATE:20270314T020000
END:DAYLIGHT
END:VTIMEZONE
BEGIN:VEVENT
UID:3b5ae13b-f410-4195-a417-ab48dfbc9e2f
DTSTAMP:20260423T121136Z
DESCRIPTION:Angel Parents offers a compassionate support group for parents\
 , caregivers\, and guardians who have experienced the loss of a child to p
 ediatric cancer. In this safe\, understanding space\, participants find co
 mfort\, connection\, and healing through shared experiences\, guided discu
 ssions\, and the support of others who truly understand the depth of their
  loss.\n\nRegistration is required to attend this event. Please contact ou
 r Family Services Team at the below email address.
DTSTART;TZID=America/Los_Angeles:20260330T180000
DTEND;TZID=America/Los_Angeles:20260330T203000
LOCATION:
SUMMARY:Angel Parents (Spanish Speaking Families)
END:VEVENT
END:VCALENDAR
