BEGIN:VCALENDAR
VERSION:2.0
PRODID:-//www.candlelightersnv.org//NONSGML kigkonsult.se iCalcreator 2.30.
 10//
CALSCALE:GREGORIAN
METHOD:PUBLISH
UID:e1947c0b-6f0a-45d3-9def-b64315714e19
X-WR-CALDESC:Spring Fling brings the excitement of spring to life with an a
 fternoon of fun\, creativity\, and celebration for Candlelighters families
 . From hands-on activities to lively entertainment\, the event is designed
  to let kids be kids while families enjoy time together in a stress-free e
 nvironment.\n\nThis is a private event for invited Candlelighters families
 \, Candlelighters staff\, Sponsors\, and Volunteers. To register for the e
 vent or get more information\, please contact our Family Services team at 
 the email address below.
X-WR-RELCALID:68d6350a5d1cbde5f8bc6cbe858959b4
X-WR-TIMEZONE:America/Los_Angeles
BEGIN:VTIMEZONE
TZID:America/Los_Angeles
BEGIN:STANDARD
TZNAME:PST
DTSTART:20251102T020000
TZOFFSETFROM:-0700
TZOFFSETTO:-0800
RDATE:20261101T020000
END:STANDARD
BEGIN:DAYLIGHT
TZNAME:PDT
DTSTART:20260308T020000
TZOFFSETFROM:-0800
TZOFFSETTO:-0700
RDATE:20270314T020000
END:DAYLIGHT
END:VTIMEZONE
BEGIN:VEVENT
UID:83f51868-ac38-4193-90cb-945d116b10d5
DTSTAMP:20260423T120614Z
DESCRIPTION:Spring Fling brings the excitement of spring to life with an af
 ternoon of fun\, creativity\, and celebration for Candlelighters families.
  From hands-on activities to lively entertainment\, the event is designed 
 to let kids be kids while families enjoy time together in a stress-free en
 vironment.\n\nThis is a private event for invited Candlelighters families\
 , Candlelighters staff\, Sponsors\, and Volunteers. To register for the ev
 ent or get more information\, please contact our Family Services team at t
 he email address below.
DTSTART;TZID=America/Los_Angeles:20260328T140000
DTEND;TZID=America/Los_Angeles:20260328T160000
LOCATION:
SUMMARY:Spring Fling
END:VEVENT
END:VCALENDAR
