BEGIN:VCALENDAR
VERSION:2.0
PRODID:-//www.candlelightersnv.org//NONSGML kigkonsult.se iCalcreator 2.30.
 10//
CALSCALE:GREGORIAN
METHOD:PUBLISH
UID:a153e2b5-df97-4c2d-b718-e7f456bc9851
X-WR-CALDESC:Angel Parents offers a compassionate support group for parents
 \, caregivers\, and guardians who have experienced the loss of a child to 
 pediatric cancer. In this safe\, understanding space\, participants find c
 omfort\, connection\, and healing through shared experiences\, guided disc
 ussions\, and the support of others who truly understand the depth of thei
 r loss. \n\nRegistration is required to attend this event. Please contact 
 our Family Services Team at the below email address.
X-WR-RELCALID:ae4c70ffdf12f094d3bb008232ae0cba
X-WR-TIMEZONE:America/Los_Angeles
BEGIN:VTIMEZONE
TZID:America/Los_Angeles
BEGIN:STANDARD
TZNAME:PST
DTSTART:20251102T020000
TZOFFSETFROM:-0700
TZOFFSETTO:-0800
RDATE:20261101T020000
END:STANDARD
BEGIN:DAYLIGHT
TZNAME:PDT
DTSTART:20250309T020000
TZOFFSETFROM:-0800
TZOFFSETTO:-0700
RDATE:20260308T020000
RDATE:20270314T020000
END:DAYLIGHT
END:VTIMEZONE
BEGIN:VEVENT
UID:37cad1fd-2989-4966-8493-6ea910cc7d4e
DTSTAMP:20260423T120614Z
DESCRIPTION:Angel Parents offers a compassionate support group for parents\
 , caregivers\, and guardians who have experienced the loss of a child to p
 ediatric cancer. In this safe\, understanding space\, participants find co
 mfort\, connection\, and healing through shared experiences\, guided discu
 ssions\, and the support of others who truly understand the depth of their
  loss. \n\nRegistration is required to attend this event. Please contact o
 ur Family Services Team at the below email address.
DTSTART;TZID=America/Los_Angeles:20260309T180000
DTEND;TZID=America/Los_Angeles:20260309T203000
LOCATION:
SUMMARY:Angel Parents (English Speaking Families)
END:VEVENT
END:VCALENDAR
