BEGIN:VCALENDAR
VERSION:2.0
PRODID:-//www.candlelightersnv.org//NONSGML kigkonsult.se iCalcreator 2.30.
 10//
CALSCALE:GREGORIAN
METHOD:PUBLISH
UID:2a49dc9a-945a-4af8-ae5d-8415e60d71c3
X-WR-CALDESC:Creative Expressions is a monthly art class designed to help y
 oung patients and their siblings explore their feelings in a positive\, im
 aginative environment. Families must register with our Family Services Tea
 m before attending the event.
X-WR-RELCALID:bb785713deebdac9f9b606d27cbae54c
X-WR-TIMEZONE:America/Los_Angeles
BEGIN:VTIMEZONE
TZID:America/Los_Angeles
BEGIN:STANDARD
TZNAME:PST
DTSTART:20251102T020000
TZOFFSETFROM:-0700
TZOFFSETTO:-0800
RDATE:20261101T020000
END:STANDARD
BEGIN:DAYLIGHT
TZNAME:PDT
DTSTART:20250309T020000
TZOFFSETFROM:-0800
TZOFFSETTO:-0700
RDATE:20260308T020000
RDATE:20270314T020000
END:DAYLIGHT
END:VTIMEZONE
BEGIN:VEVENT
UID:74c0b6a7-9fbe-4ed5-ad64-3c6654c4e257
DTSTAMP:20260423T132631Z
DESCRIPTION:Creative Expressions is a monthly art class designed to help yo
 ung patients and their siblings explore their feelings in a positive\, ima
 ginative environment. Families must register with our Family Services Team
  before attending the event.
DTSTART;TZID=America/Los_Angeles:20260207T100000
DTEND;TZID=America/Los_Angeles:20260207T113000
LOCATION:
SUMMARY:Creative Expressions
END:VEVENT
END:VCALENDAR
