BEGIN:VCALENDAR
VERSION:2.0
PRODID:-//www.candlelightersnv.org//NONSGML kigkonsult.se iCalcreator 2.30.
 10//
CALSCALE:GREGORIAN
METHOD:PUBLISH
UID:55b39b25-36f7-4e9b-88fe-61af723d84d6
X-WR-CALDESC:Candlelighters Childhood Cancer Foundation would like to offer
  our families an e-gift card to use when purchasing groceries for their Th
 anksgiving meal. If you would like to apply\, please click the 'Apply Here
 ' button on the top right to submit your family's information. \n\nPlease 
 note that gift cards are limited\, and families are chosen on a first come
 \, first serve basis. Candlelighters will notify you if your family has be
 en chosen to receive an e-gift card on Thursday\, November 20th\, 2025. Fo
 r more information on Thanksgiving Gift Cards\, please contact Candlelight
 ers directly at (702) 737-1919.\n\nWe thank our generous donors\, The Revo
 lution\, for making Thanksgiving possible for our families.\n\nApplication
 s for gift cards will close on November 20th\, 2025. If you would like to 
 apply after this date\, please contact the Candlelighters office directly\
 ,
X-WR-RELCALID:3a72f60e9e407f4b110cdae86d01818c
X-WR-TIMEZONE:America/Los_Angeles
BEGIN:VTIMEZONE
TZID:America/Los_Angeles
BEGIN:STANDARD
TZNAME:PST
DTSTART:20251102T020000
TZOFFSETFROM:-0700
TZOFFSETTO:-0800
RDATE:20261101T020000
END:STANDARD
BEGIN:DAYLIGHT
TZNAME:PDT
DTSTART:20250309T020000
TZOFFSETFROM:-0800
TZOFFSETTO:-0700
RDATE:20260308T020000
RDATE:20270314T020000
END:DAYLIGHT
END:VTIMEZONE
BEGIN:VEVENT
UID:2b85eeef-5682-4495-875b-9989ca6bf47f
DTSTAMP:20260423T174209Z
DESCRIPTION:Candlelighters Childhood Cancer Foundation would like to offer 
 our families an e-gift card to use when purchasing groceries for their Tha
 nksgiving meal. If you would like to apply\, please click the 'Apply Here'
  button on the top right to submit your family's information. \n\nPlease n
 ote that gift cards are limited\, and families are chosen on a first come\
 , first serve basis. Candlelighters will notify you if your family has bee
 n chosen to receive an e-gift card on Thursday\, November 20th\, 2025. For
  more information on Thanksgiving Gift Cards\, please contact Candlelighte
 rs directly at (702) 737-1919.\n\nWe thank our generous donors\, The Revol
 ution\, for making Thanksgiving possible for our families.\n\nApplications
  for gift cards will close on November 20th\, 2025. If you would like to a
 pply after this date\, please contact the Candlelighters office directly\,
DTSTART;TZID=America/Los_Angeles:20251120T030000
DTEND;TZID=America/Los_Angeles:20251120T030001
LOCATION:Applications for Thanksgiving Gift Cards will close on Wednesday\,
  November 19th.
SUMMARY:Thanksgiving Gift Cards
END:VEVENT
END:VCALENDAR
