BEGIN:VCALENDAR
VERSION:2.0
PRODID:-//www.candlelightersnv.org//NONSGML kigkonsult.se iCalcreator 2.30.
 10//
CALSCALE:GREGORIAN
METHOD:PUBLISH
UID:7f7a229d-c134-4d39-b919-85e18c8077bf
X-WR-CALDESC:Join Elit3 Cliqu3’s and Republic Services for a festive Wheels
  of Hope Toy Drive & Car Show at the Thomas & Mack Center as we work toget
 her to fill Slaytona’s Sleigh! Bring one new toy valued at $20 or more for
  entry and enjoy a day of lowriders\, trucks\, cars\, vendors\, food\, raf
 fles\, and awards. Celebrate the season of giving with great rides\, good 
 vibes\, and holiday cheer for a worthy cause!
X-WR-RELCALID:f1ff671f1d079b2789d5298a6605cce5
X-WR-TIMEZONE:America/Los_Angeles
BEGIN:VTIMEZONE
TZID:America/Los_Angeles
BEGIN:STANDARD
TZNAME:PST
DTSTART:20251102T020000
TZOFFSETFROM:-0700
TZOFFSETTO:-0800
RDATE:20261101T020000
END:STANDARD
BEGIN:DAYLIGHT
TZNAME:PDT
DTSTART:20250309T020000
TZOFFSETFROM:-0800
TZOFFSETTO:-0700
RDATE:20260308T020000
RDATE:20270314T020000
END:DAYLIGHT
END:VTIMEZONE
BEGIN:VEVENT
UID:7804cc6f-59d7-4a41-a832-37fd64a97a1f
DTSTAMP:20260423T175812Z
DESCRIPTION:Join Elit3 Cliqu3’s and Republic Services for a festive Wheels 
 of Hope Toy Drive & Car Show at the Thomas & Mack Center as we work togeth
 er to fill Slaytona’s Sleigh! Bring one new toy valued at $20 or more for 
 entry and enjoy a day of lowriders\, trucks\, cars\, vendors\, food\, raff
 les\, and awards. Celebrate the season of giving with great rides\, good v
 ibes\, and holiday cheer for a worthy cause!
DTSTART;TZID=America/Los_Angeles:20251108T110000
DTEND;TZID=America/Los_Angeles:20251108T150000
LOCATION:Thomas & Mack Center\, 4505 S Maryland Pkwy\, Las Vegas\, NV 89154
  US
SUMMARY:ELIT3 CLIQU3'S - Wheels of Hope Car Show & Toy Drive
END:VEVENT
END:VCALENDAR
