BEGIN:VCALENDAR
VERSION:2.0
PRODID:-//www.candlelightersnv.org//NONSGML kigkonsult.se iCalcreator 2.30.
 10//
CALSCALE:GREGORIAN
METHOD:PUBLISH
UID:cf686594-38ea-4120-a0a5-a742f87a97f2
X-WR-CALDESC:This trunk-or-treat event is open to Candlelighters Families o
 nly\, and includes opportunities such as games\, food\, and more! Join us 
 for our very first Halloween Bash at the F1 Grand Prix Plaza\, and call Ca
 ndlelighters at (702) 737-1919 with any questions or concerns.
X-WR-RELCALID:206571967d5fe82e837e5698545416f6
X-WR-TIMEZONE:America/Los_Angeles
BEGIN:VTIMEZONE
TZID:America/Los_Angeles
BEGIN:STANDARD
TZNAME:PST
DTSTART:20241103T020000
TZOFFSETFROM:-0700
TZOFFSETTO:-0800
RDATE:20251102T020000
RDATE:20261101T020000
END:STANDARD
BEGIN:DAYLIGHT
TZNAME:PDT
DTSTART:20250309T020000
TZOFFSETFROM:-0800
TZOFFSETTO:-0700
RDATE:20260308T020000
RDATE:20270314T020000
END:DAYLIGHT
END:VTIMEZONE
BEGIN:VEVENT
UID:44c66c2f-2fd4-4ce6-8400-2bb97c014ab7
DTSTAMP:20260423T190308Z
DESCRIPTION:This trunk-or-treat event is open to Candlelighters Families on
 ly\, and includes opportunities such as games\, food\, and more! Join us f
 or our very first Halloween Bash at the F1 Grand Prix Plaza\, and call Can
 dlelighters at (702) 737-1919 with any questions or concerns.
DTSTART;TZID=America/Los_Angeles:20251023T180000
DTEND;TZID=America/Los_Angeles:20251023T203000
LOCATION:F1 Grand Prix Plaza\, 4400 Koval Lane\, Las Vegas\, NV 89109 US
SUMMARY:Halloween Bash
END:VEVENT
END:VCALENDAR
