BEGIN:VCALENDAR
VERSION:2.0
PRODID:-//www.candlelightersnv.org//NONSGML kigkonsult.se iCalcreator 2.30.
 10//
CALSCALE:GREGORIAN
METHOD:PUBLISH
UID:48318699-df4b-4328-8b14-e4a02d7ce7d9
X-WR-CALDESC:
X-WR-RELCALID:a719ad272dfe3a16fc6376e5c8b8a105
X-WR-TIMEZONE:America/Los_Angeles
BEGIN:VTIMEZONE
TZID:America/Los_Angeles
BEGIN:STANDARD
TZNAME:PST
DTSTART:20241103T020000
TZOFFSETFROM:-0700
TZOFFSETTO:-0800
RDATE:20251102T020000
RDATE:20261101T020000
END:STANDARD
BEGIN:DAYLIGHT
TZNAME:PDT
DTSTART:20250309T020000
TZOFFSETFROM:-0800
TZOFFSETTO:-0700
RDATE:20260308T020000
RDATE:20270314T020000
END:DAYLIGHT
END:VTIMEZONE
BEGIN:VEVENT
UID:6cf9f8cc-ed6b-45c5-b10b-2e086a1a7872
DTSTAMP:20260423T204448Z
DESCRIPTION:
DTSTART;TZID=America/Los_Angeles:20250920T170000
DTEND;TZID=America/Los_Angeles:20250920T190000
LOCATION:2601 E. Sunset Rd \, Area G\, Las Vegas\, NV 89120 US
SUMMARY:Day of Remembrance
END:VEVENT
END:VCALENDAR
